BEGIN:VCALENDAR
VERSION:2.0
PRODID:-//eventon.com NONSGML v1.0//EN
CALSCALE:GREGORIAN
METHOD:PUBLISH
BEGIN:VEVENT
UID:69eb5cba61281
DTSTAMP:20260424T120618Z
DTSTART:20260417T053000Z
DTEND:20260417T085500Z
LOCATION:
SUMMARY:We Are Not Afraid + Deconvol + Kenpark
DESCRIPTION:We Are Not Afraid + Deconvol + Kenpark Día: 16 de abril\,  jue
 ves Hora: 20.30h (apertura de puertas) Lugar: Sala 8 y Medio (Alicante) MÚ
 SICA Artistas: We Are Not Afraid\,  Deconvol y Kenpark Precio de la entrada
 : 12€ anticipada ¿De qué va? - Concierto en la Sala 8 y Medio[..]\nhttp
 s://quefas.es/events/concierto-8ymedio/
URL:https://quefas.es/events/concierto-8ymedio/
END:VEVENT
END:VCALENDAR