BEGIN:VCALENDAR
VERSION:2.0
PRODID:-//eventon.com NONSGML v1.0//EN
CALSCALE:GREGORIAN
METHOD:PUBLISH
BEGIN:VEVENT
UID:69e6d702c40ff
DTSTAMP:20260421T014642Z
DTSTART:20260213T200000Z
DTEND:20260213T230100Z
LOCATION:
SUMMARY:Curso de pintura "El bodegón"
DESCRIPTION:CURSO DE PINTURA “EL BODEGÓN” Nuevo plazo de inscripción 
 gratuita a partir del lunes 9 de febrero a las 9:30 h&nbsp;(pinchando en el
  enlace adjunto)&nbsp; La inscripción será exclusivamente online. No se h
 arán inscripciones en secretaría. No se admitirán las solicitudes de per
 sonas que hayan hecho el curso de pintura[..]\nhttps://quefas.es/events/cur
 so-de-pintura-el-bodegon/
URL:https://quefas.es/events/curso-de-pintura-el-bodegon/
END:VEVENT
END:VCALENDAR