BEGIN:VCALENDAR
VERSION:2.0
PRODID:-//eventon.com NONSGML v1.0//EN
CALSCALE:GREGORIAN
METHOD:PUBLISH
BEGIN:VEVENT
UID:69eaac4c80439
DTSTAMP:20260423T233332Z
DTSTART:20260426T070000Z
DTEND:20260426T085000Z
LOCATION:
SUMMARY:Breakbeat área
DESCRIPTION:Breakbeat área by Urban Tactics Día: 25 de abril\,  sábado H
 ora: 22.00h Lugar: Söda Bar (Alicante) Orgniza: Urban Tactics Entradas lib
 re con consumición El breakbeat y los funk breaks son los cimientos del ri
 tmo en gran parte de la música electrónica moderna y el hip hop. Aunque a
  menudo se[..]\nhttps://quefas.es/events/urban-tactics-soda/
URL:https://quefas.es/events/urban-tactics-soda/
END:VEVENT
END:VCALENDAR