BEGIN:VCALENDAR
VERSION:2.0
PRODID:-//eventon.com NONSGML v1.0//EN
CALSCALE:GREGORIAN
METHOD:PUBLISH
BEGIN:VEVENT
UID:69e5759af3e88
DTSTAMP:20260420T003850Z
DTSTART:20260225T023000Z
DTEND:20260225T043000Z
LOCATION:
SUMMARY:Clases de apoyo gratuitas
DESCRIPTION:Clases de apoyo gratuitas (matemáticas\,  física y química)&
 nbsp;– EDUCACIÓN - 16.30h – CNT-AIT Alacant (Alicante) Todos los marte
 s Hora: 16.30h CNT-AIT (Alicante) Entrada Libre\nhttps://quefas.es/events/c
 lases-de-apoyo/
URL:https://quefas.es/events/clases-de-apoyo/
END:VEVENT
END:VCALENDAR