BEGIN:VCALENDAR
VERSION:2.0
PRODID:-//eventon.com NONSGML v1.0//EN
CALSCALE:GREGORIAN
METHOD:PUBLISH
BEGIN:VEVENT
UID:69e575a5077d8
DTSTAMP:20260420T003901Z
DTSTART:20260224T180000Z
DTEND:20260224T193000Z
LOCATION:
SUMMARY:Taller de Boxeo
DESCRIPTION:Durant aquest hivern i fins a primavera\,  el col·lectiu&nbsp;
 Proleta Boxing Club&nbsp;traspassa els seus&nbsp;entrenaments gratuïts de 
 deports de contacte&nbsp;que feia a l’Ultrasolar Jardí Comunitari de Car
 olines&nbsp;a l’Ateneu Popular del Pla-Carolines. Els dies i horaris que 
 també pots consultar al calendari de l’Ateneu són: martes a les 18:00
 h → Boxeo Divendres a les 18:00h&nbsp;→&nbsp;Muay Thai Vine[..]\nhttp
 s://quefas.es/events/taller-de-deporte-de-boxeo/
URL:https://quefas.es/events/taller-de-deporte-de-boxeo/
END:VEVENT
END:VCALENDAR