BEGIN:VCALENDAR
VERSION:2.0
PRODID:-//eventon.com NONSGML v1.0//EN
CALSCALE:GREGORIAN
METHOD:PUBLISH
BEGIN:VEVENT
UID:69e575c316228
DTSTAMP:20260420T003931Z
DTSTART:20260225T180000Z
DTEND:20260225T193000Z
LOCATION:
SUMMARY:Taller de relajación
DESCRIPTION:Taller de relajación – BIENESTAR – 18.00h – AVV Carolin
 es Baixes (Alicante)\nhttps://quefas.es/events/taller-de-relajacion/
URL:https://quefas.es/events/taller-de-relajacion/
END:VEVENT
END:VCALENDAR