BEGIN:VCALENDAR
VERSION:2.0
PRODID:-//eventon.com NONSGML v1.0//EN
CALSCALE:GREGORIAN
METHOD:PUBLISH
BEGIN:VEVENT
UID:69e575af0f7f3
DTSTAMP:20260420T003911Z
DTSTART:20260226T050000Z
DTEND:20260226T063000Z
LOCATION:
SUMMARY:Clases de conversación para aprender y practicar español
DESCRIPTION:Clases de conversación para aprender y practicar español –
  LITERATURA – 19.00h – Ateneu Popular del Pla-Carolines (Alicante) – 
 +12 -\nhttps://quefas.es/events/conversacion-espanol-carolines/
URL:https://quefas.es/events/conversacion-espanol-carolines/
END:VEVENT
END:VCALENDAR