BEGIN:VCALENDAR
VERSION:2.0
PRODID:-//eventon.com NONSGML v1.0//EN
CALSCALE:GREGORIAN
METHOD:PUBLISH
BEGIN:VEVENT
UID:69e74d6d9af3b
DTSTAMP:20260421T101157Z
DTSTART:20260303T120000Z
DTEND:20260303T125000Z
LOCATION:
SUMMARY:@Rita_trobador
DESCRIPTION:@Rita_trobador Día: 03 de marzo\,  martes Hora: 12.00h Lugar: 
 Teatro Principal (Alicante) JÓVENES AL PRINCIPAL\,  Teatro para centros ed
 ucativos Entradas: 8€ comprar JÓVENES AL PRINCIPAL\,  teatro para centro
 s educativos ¿Qué tiene en común Azalais\,  una poetisa occitana (trobai
 ritz) nacida en 1146 con Sor Isabel de Villena\,  la abadesa del Convento[.
 .]\nhttps://quefas.es/events/jovenes-al-principal-teatro/
URL:https://quefas.es/events/jovenes-al-principal-teatro/
END:VEVENT
END:VCALENDAR