BEGIN:VCALENDAR
VERSION:2.0
PRODID:-//eventon.com NONSGML v1.0//EN
CALSCALE:GREGORIAN
METHOD:PUBLISH
BEGIN:VEVENT
UID:69e6b314b15e8
DTSTAMP:20260420T231324Z
DTSTART:20240528T183000Z
DTEND:20240528T203000Z
LOCATION:
SUMMARY:LLEGIR ESTELLÉS A LA BIBLIOTECA DE MUTXAMEL
DESCRIPTION:Iniciamos las actividades del Any Vicent Andrés Estellés a Mu
 txamel con la lectura conjunta de poemas. FECHA May 28 2024 HORA 18:30 - 20
 :30 LUGAR Biblioteca Municipal\nhttps://quefas.es/events/llegir-estelles-a-
 la-biblioteca-de-mutxamel/
URL:https://quefas.es/events/llegir-estelles-a-la-biblioteca-de-mutxamel/
END:VEVENT
END:VCALENDAR