BEGIN:VCALENDAR
VERSION:2.0
PRODID:-//eventon.com NONSGML v1.0//EN
CALSCALE:GREGORIAN
METHOD:PUBLISH
BEGIN:VEVENT
UID:69e666908e40c
DTSTAMP:20260420T174656Z
DTSTART:20250626T200000Z
DTEND:20250626T210000Z
LOCATION:
SUMMARY:Yo templario
DESCRIPTION:Presentació literàriaYO\,  TEMPLARIO Centre CulturalDijous 26
  de juny - 20 h Presentació de l’últim llibre de Verónica Martínez\, 
  a càrrec de Carlos G. Ortuño. Entrada lliure\nhttps://quefas.es/events/l
 etras-centro-cultural-petrer/
URL:https://quefas.es/events/letras-centro-cultural-petrer/
END:VEVENT
END:VCALENDAR