BEGIN:VCALENDAR
VERSION:2.0
PRODID:-//eventon.com NONSGML v1.0//EN
CALSCALE:GREGORIAN
METHOD:PUBLISH
BEGIN:VEVENT
UID:69e5168529062
DTSTAMP:20260419T175309Z
DTSTART:20260523T053000Z
DTEND:20260523T065000Z
LOCATION:
SUMMARY:Las dolientes error 2113
DESCRIPTION:22 mayo de 2026 ·&nbsp;Alicante&nbsp;·&nbsp;Teatre Arniches L
 AS DOLIENTES #error 2113 LA NEGRA Horarios:&nbsp;Viernes: 20.30 h Precios:&
 nbsp;15 € Notas:&nbsp;Teatre. Dansa. Música. Castellà. Duració: 55 min
  Comprar Un espacio blanco\,  desinfectado\,  una morgue\,  o un limbo\,  o
  un espacio eterno de luz. De sueño. En este marco se desarrolla&nbsp;LAS 
 DOLIENTES #ERROR 2113.[..]\nhttps://quefas.es/events/teatro-arniches/
URL:https://quefas.es/events/teatro-arniches/
END:VEVENT
END:VCALENDAR