BEGIN:VCALENDAR
VERSION:2.0
PRODID:-//eventon.com NONSGML v1.0//EN
CALSCALE:GREGORIAN
METHOD:PUBLISH
BEGIN:VEVENT
UID:69ea564ee56a0
DTSTAMP:20260423T172638Z
DTSTART:20260411T033000Z
DTEND:20260411T053000Z
LOCATION:
SUMMARY:Reineta en Corto 001
DESCRIPTION:REINETA en corto 001: Alicante estrena un nuevo espacio para el
  cine independiente La escena cinematográfica alicantina suma una nueva in
 iciativa con vocación de cercanía\,  diálogo y descubrimiento. La Asocia
 ción Reineta Cultural inaugura este 10 de abril de 2026 el ciclo “REINET
 A en corto”\,  un formato dedicado al cortometraje independiente[..]\nhtt
 ps://quefas.es/events/reineta-en-corto-001/
URL:https://quefas.es/events/reineta-en-corto-001/
END:VEVENT
END:VCALENDAR