BEGIN:VCALENDAR
VERSION:2.0
PRODID:-//eventon.com NONSGML v1.0//EN
CALSCALE:GREGORIAN
METHOD:PUBLISH
BEGIN:VEVENT
UID:69e5911e97d63
DTSTAMP:20260420T023614Z
DTSTART:20260411T053000Z
DTEND:20260411T065000Z
LOCATION:
SUMMARY:Antonio Melgar
DESCRIPTION:\nhttps://quefas.es/events/humor-deskaro-novelda/
URL:https://quefas.es/events/humor-deskaro-novelda/
END:VEVENT
END:VCALENDAR