BEGIN:VCALENDAR
VERSION:2.0
PRODID:-//eventon.com NONSGML v1.0//EN
CALSCALE:GREGORIAN
METHOD:PUBLISH
BEGIN:VEVENT
UID:69e68ffbdc824
DTSTAMP:20260420T204339Z
DTSTART:20260416T020000Z
DTEND:20260416T040000Z
LOCATION:
SUMMARY:CinefÃ³rum: Las Cigarreras de Alicante
DESCRIPTION:CinefÃ³rum: Las Cigarreras de Alicante DÃ­a: 15 de abril\,  miÃ
 ©rcoles Hora: 17.00h Lugar: Oficina EDUSI Alicante entre dos castillos (Ali
 cante) CINE Organiza: EDUSI Alicante Precio de la entrada: Gratuita (sin in
 scripciÃ³n previa) Este cinefÃ³rum propone la proyecciÃ³n de un documental 
 que recupera la memoria histÃ³rica de las cigarreras de Alicante\, [..]\nht
 tps://quefas.es/events/cineforum-las-cigarreras-de-alicante/
URL:https://quefas.es/events/cineforum-las-cigarreras-de-alicante/
END:VEVENT
END:VCALENDAR