BEGIN:VCALENDAR
VERSION:2.0
PRODID:-//eventon.com NONSGML v1.0//EN
CALSCALE:GREGORIAN
METHOD:PUBLISH
BEGIN:VEVENT
UID:69e4dfd7e1c39
DTSTAMP:20260419T135951Z
DTSTART:20260412T110000Z
DTEND:20260412T153000Z
LOCATION:
SUMMARY:Ropalines. Mercadillo de ropa de segunda mano
DESCRIPTION:ROPALINES: mercadillo de ropa de segunda mano\,  en la AVV de C
 arolines-Les Palmeretes(C/ Olozaga\,  12) D12 de 11:00h a 15:00h Este domin
 go 12 de abril no te puedes perder el evento comunitario ROPALINES Gildas\,
   vermut\,  música en directo y… Mercadillo de ropa a precios populares 
 desde 1€!! 👕🫒🍸🎵😍 No tengas[..]\nhttps://quefas.es/events/r
 opalines-mercadillo-de-ropa-de-segunda-mano/
URL:https://quefas.es/events/ropalines-mercadillo-de-ropa-de-segunda-mano/
END:VEVENT
END:VCALENDAR