BEGIN:VCALENDAR
VERSION:2.0
PRODID:-//eventon.com NONSGML v1.0//EN
CALSCALE:GREGORIAN
METHOD:PUBLISH
BEGIN:VEVENT
UID:69e5535bd8aa0
DTSTAMP:20260419T221243Z
DTSTART:20260430T050000Z
DTEND:20260430T063000Z
LOCATION:
SUMMARY:La odisea según Penélope
DESCRIPTION:La odisea según Penélope Día: 29 de abril\,  miércoles Hora
 : 20.00h Lugar: Auditori – Casa de Cultura de Calp (Calp) TEATRO Compañ
 a: — Entrada libre hasta completar aforo El Aula de Teatro de la Univers
 itat d’Alacant representará en #Calp “La Odisea según Penélope”\, 
  una reinterpretación contemporánea del clásico de Homero.\nhttps://quef
 as.es/events/teatro-calpe/
URL:https://quefas.es/events/teatro-calpe/
END:VEVENT
END:VCALENDAR