BEGIN:VCALENDAR
VERSION:2.0
PRODID:-//eventon.com NONSGML v1.0//EN
CALSCALE:GREGORIAN
METHOD:PUBLISH
BEGIN:VEVENT
UID:69ea5787555d0
DTSTAMP:20260423T173151Z
DTSTART:20260411T203000Z
DTEND:20260411T220000Z
LOCATION:
SUMMARY:Tibi: Carpintería para niñ@s
DESCRIPTION:Tibi: Carpintería para niñ@s Día: 11 de abril\,  sábado Hor
 a: 11.30h Lugar: Biblioteca Municipal de Tibi (Tibi) TALLER Organiza: Ayunt
 amiento de Tibi / Biblioteca Pública Precio de la entrada: Inscripción pr
 evia SINOPSISTaller de carpintería dirigido a niños y niñas a partir de 
 7 años\,  acompañados de una persona adulta\,  en[..]\nhttps://quefas.es/
 events/tibi-carpinteria-para-nins/
URL:https://quefas.es/events/tibi-carpinteria-para-nins/
END:VEVENT
END:VCALENDAR