BEGIN:VCALENDAR
VERSION:2.0
PRODID:-//eventon.com NONSGML v1.0//EN
CALSCALE:GREGORIAN
METHOD:PUBLISH
BEGIN:VEVENT
UID:69e50e45ac35e
DTSTAMP:20260419T171757Z
DTSTART:20260419T040000Z
DTEND:20260419T073000Z
LOCATION:
SUMMARY:Skyline film festival
DESCRIPTION:Skyline Benidorm Film Festival celebra su décima edición cons
 olidado como uno de los principales escaparates del cortometraje en España
 . Del 18 al 25 de abril\,  la ciudad alicantina volverá a convertirse en p
 unto de encuentro para la industria y el público\,  y lo hace con el anunc
 io de su Sección[..]\nhttps://quefas.es/events/skyline-film-festival/
URL:https://quefas.es/events/skyline-film-festival/
END:VEVENT
END:VCALENDAR