BEGIN:VCALENDAR
VERSION:2.0
PRODID:-//eventon.com NONSGML v1.0//EN
CALSCALE:GREGORIAN
METHOD:PUBLISH
BEGIN:VEVENT
UID:69e696f2e8449
DTSTAMP:20260420T211322Z
DTSTART:20260416T030000Z
DTEND:20260416T085000Z
LOCATION:
SUMMARY:Alacroqueta
DESCRIPTION:Alacroqueta celebra su segunda edición en Alicante con sabor\,
   música y ambiente festivo en Plaza Séneca La ciudad de Alicante vuelve 
 a rendirse al placer gastronómico con la llegada de la segunda edición de
  Alacroqueta\,  el campeonato dedicado a uno de los bocados más icónicos 
 de la cocina popular. Durante[..]\nhttps://quefas.es/events/alacroqueta-2/
URL:https://quefas.es/events/alacroqueta-2/
END:VEVENT
END:VCALENDAR