BEGIN:VCALENDAR
VERSION:2.0
PRODID:-//eventon.com NONSGML v1.0//EN
CALSCALE:GREGORIAN
METHOD:PUBLISH
BEGIN:VEVENT
UID:69e9c70b219c8
DTSTAMP:20260423T071523Z
DTSTART:20260508T193000Z
DTEND:20260508T220000Z
LOCATION:
SUMMARY:Voodoo Rhythm Crazy Nights
DESCRIPTION:Voodoo Rhythm Crazy Nights Día: 08 de mayo\,  viernes Hora: 20
 .00h Lugar: El Búnker (C/Montengón 8) Entradas: 12€ COMPRAR El Bunker a
 coge “Voodoo Rhythm Crazy Nights” con Budget Boozers en su primera visi
 ta a España La sala El Bunker vuelve a posicionarse como refugio del under
 ground con una nueva cita[..]\nhttps://quefas.es/events/bunker-santaleonor-
 alicante/
URL:https://quefas.es/events/bunker-santaleonor-alicante/
END:VEVENT
END:VCALENDAR