BEGIN:VCALENDAR
VERSION:2.0
PRODID:-//eventon.com NONSGML v1.0//EN
CALSCALE:GREGORIAN
METHOD:PUBLISH
BEGIN:VEVENT
UID:69e6534589cd0
DTSTAMP:20260420T162437Z
DTSTART:20260417T200000Z
DTEND:20260418T085000Z
LOCATION:
SUMMARY:Mosaico Fest
DESCRIPTION:Torrevieja acoge el ‘I Mosaico Fest’\,  un gran encuentro i
 ntercultural bajo el lema “Torrevieja somos uno”\,  con el objetivo de 
 fomentar la participación comunitaria\,  la igualdad de trato hacia las pe
 rsonas migrantes y la prevención del racismo y la xenofobia. En los últim
 os años\,  la ciudad ha experimentado un notable[..]\nhttps://quefas.es/ev
 ents/mosaico-fest/
URL:https://quefas.es/events/mosaico-fest/
END:VEVENT
END:VCALENDAR