BEGIN:VCALENDAR
VERSION:2.0
PRODID:-//eventon.com NONSGML v1.0//EN
CALSCALE:GREGORIAN
METHOD:PUBLISH
BEGIN:VEVENT
UID:69e6541f33022
DTSTAMP:20260420T162815Z
DTSTART:20260420T033000Z
DTEND:20260420T050000Z
LOCATION:
SUMMARY:Regomello: Besado en lechos reales
DESCRIPTION:Regomello: Besado en lechos reales Día: 19 de abril\,  domingo
  Hora: 18.30h Lugar: Auditorio Municipal de Benijófar (Benijófar) HUMOR C
 ompañía: Regomello Entrada libre hasta completar aforo ¿De qué va? “B
 esado en lechos reales” es un espectáculo cómico-musical que combina ca
 nciones y monólogos originales con un tono irreverente y desenfadado. A[..
 ]\nhttps://quefas.es/events/regomello-besado-en-lechos-reales/
URL:https://quefas.es/events/regomello-besado-en-lechos-reales/
END:VEVENT
END:VCALENDAR