BEGIN:VCALENDAR
VERSION:2.0
PRODID:-//eventon.com NONSGML v1.0//EN
CALSCALE:GREGORIAN
METHOD:PUBLISH
BEGIN:VEVENT
UID:69e55b572ad75
DTSTAMP:20260419T224647Z
DTSTART:20260417T190000Z
DTEND:20260418T080000Z
LOCATION:
SUMMARY:Fora d´Òrbita en Orba
DESCRIPTION:La V edición de la Mostra Insòlita d’Arts Escèniques Multi
 disciplinar «Fora d’Òrbita» se celebrará del 17 al 19 de abril de 202
 6 en Orba\,  consolidándose como una de las propuestas culturales más sin
 gulares de la Marina Alta. Organizada por el Ajuntament d’Orba\,  la inic
 iativa llenará calles y plazas del municipio[..]\nhttps://quefas.es/events
 /fora-dorbita-en-orba/
URL:https://quefas.es/events/fora-dorbita-en-orba/
END:VEVENT
END:VCALENDAR