BEGIN:VCALENDAR
VERSION:2.0
PRODID:-//eventon.com NONSGML v1.0//EN
CALSCALE:GREGORIAN
METHOD:PUBLISH
BEGIN:VEVENT
UID:69ea623523a27
DTSTAMP:20260423T181725Z
DTSTART:20260416T223000Z
DTEND:20260417T080000Z
LOCATION:
SUMMARY:Santa Rave
DESCRIPTION:El evento SANTARAVE by Bohemica volverá a celebrarse el próxi
 mo 16 de abril de 2026 en Alicante\,  consolidándose como una de las citas
  musicales más destacadas de la jornada festiva de Santa Faz. La propuesta
  tendrá lugar en el espacio 37 Club (zona Playa de San Juan) desde las 13.
 30h[..]\nhttps://quefas.es/events/santa-rave/
URL:https://quefas.es/events/santa-rave/
END:VEVENT
END:VCALENDAR