BEGIN:VCALENDAR
VERSION:2.0
PRODID:-//eventon.com NONSGML v1.0//EN
CALSCALE:GREGORIAN
METHOD:PUBLISH
BEGIN:VEVENT
UID:69e696e8e37d2
DTSTAMP:20260420T211312Z
DTSTART:20260425T110000Z
DTEND:20260425T123000Z
LOCATION:
SUMMARY:Taller de bordado palestino
DESCRIPTION:Taller de bordado palestino Día: 25 de abril\,  sábado Hora: 
 11.00h Lugar: Casa Mediterráneo (Alicante) Entrada Libre hasta completar a
 foro\nhttps://quefas.es/events/taller-casa-mediterraneo/
URL:https://quefas.es/events/taller-casa-mediterraneo/
END:VEVENT
END:VCALENDAR