BEGIN:VCALENDAR
VERSION:2.0
PRODID:-//eventon.com NONSGML v1.0//EN
CALSCALE:GREGORIAN
METHOD:PUBLISH
BEGIN:VEVENT
UID:69e9d811b5292
DTSTAMP:20260423T082801Z
DTSTART:20260425T060000Z
DTEND:20260425T080000Z
LOCATION:
SUMMARY:Marta Santos
DESCRIPTION:Mart Santos Día: 24 de abril\,  viernes Hora: 21.00h Lugar: El
  Muelle Live (Alicante) MÚSICA Precio de la entrada: 27€ /40€ COMPRAR 
 El próximo 24 de abril\, &nbsp;Marta Santos&nbsp;llega a El Muelle Live pa
 ra emocionar al público con su voz\,  sus canciones y su historia. Nacida 
 en Villanueva del Río y[..]\nhttps://quefas.es/events/concierto-el-muelle-
 live/
URL:https://quefas.es/events/concierto-el-muelle-live/
END:VEVENT
END:VCALENDAR