BEGIN:VCALENDAR
VERSION:2.0
PRODID:-//eventon.com NONSGML v1.0//EN
CALSCALE:GREGORIAN
METHOD:PUBLISH
BEGIN:VEVENT
UID:69ea7671ce0af
DTSTAMP:20260423T194345Z
DTSTART:20260303T190000Z
DTEND:20260303T210000Z
LOCATION:
SUMMARY:Cuando el amor duele: entre el adiós y el renacer
DESCRIPTION:Día: 03 de marzo\,  martes Hora: 19.00h Lugar: Fahrenheit 451 
 (Alicante) Entrada Libre Meses después de la muerte de su padre y recién 
 graduada\,  Marina conoce a Jaime\,  un hombre veinte años mayor que ella 
 que irrumpe en su vida colmándola de atenciones y planes. En poco tiempo\,
   su día[..]\nhttps://quefas.es/events/martes-fahrenheit/
URL:https://quefas.es/events/martes-fahrenheit/
END:VEVENT
END:VCALENDAR