BEGIN:VCALENDAR
VERSION:2.0
PRODID:-//eventon.com NONSGML v1.0//EN
CALSCALE:GREGORIAN
METHOD:PUBLISH
BEGIN:VEVENT
UID:69e88e067d5d7
DTSTAMP:20260422T085950Z
DTSTART:20250405T063000Z
DTEND:20250405T085500Z
LOCATION:
SUMMARY:AMERICAN ROCK PUNK
DESCRIPTION:Día: 04 de abril\,  viernes Hora: 22.00h Lugar. Rockstar (Beni
 dorm) Entradas: 14-17€ “American Rock Punk” es un festival donde podr
 ás revivir las canciones de las grandes bandas del punk-rock americano\,  
 de la mano de sus mejores bandas tributo: NIRVANA (Neverminders)\,  GREEN D
 AY (Suburbia) y THE OFFSPRING (Smash). ¿Que no vas[..]\nhttps://quefas.es/
 events/rockstar/
URL:https://quefas.es/events/rockstar/
END:VEVENT
END:VCALENDAR