BEGIN:VCALENDAR
VERSION:2.0
PRODID:-//eventon.com NONSGML v1.0//EN
CALSCALE:GREGORIAN
METHOD:PUBLISH
BEGIN:VEVENT
UID:69e99aca54e40
DTSTAMP:20260423T040634Z
DTSTART:20260626T183000Z
DTEND:20260626T235500Z
LOCATION:
SUMMARY:MAROR FEST
DESCRIPTION:Días. 26 y 27 de de junio Hora: 18.30h Lugar: Avenida de l´An
 toneta (Villajoyosa) FESTIVAL Artistas confirmados M Clan - El Diluvi\,  La
  Fúmiga —en plena gira de despedida—\,  Sanguijuelas del Guadiana\,  C
 arlos Ares\,  Esther y DJ PlanB Entrada: 20-35€ COMPRAR El Maror Festival
  confirma su edición de 2026 y[..]\nhttps://quefas.es/events/maror-fest/
URL:https://quefas.es/events/maror-fest/
END:VEVENT
END:VCALENDAR