BEGIN:VCALENDAR
VERSION:2.0
PRODID:-//eventon.com NONSGML v1.0//EN
CALSCALE:GREGORIAN
METHOD:PUBLISH
BEGIN:VEVENT
UID:69e84f032ce61
DTSTAMP:20260422T043059Z
DTSTART:20260704T120000Z
DTEND:20260704T235000Z
LOCATION:
SUMMARY:TIKI pARTY
DESCRIPTION:El 04 de julio\,  a partir de las 12 de la mañana se celebra e
 n Jesus Pobre\,  una nueva Edición de la Tiki Party. Con 3 escenarios (Res
 taurante el sequer (mediodía)\,  plaza del pueblo (tarde) y Polideportivo 
 (tarde - noche).) Si quieres una forma de turismo alternativa\,  no te pier
 das[..]\nhttps://quefas.es/events/vii-tiki-party/
URL:https://quefas.es/events/vii-tiki-party/
END:VEVENT
END:VCALENDAR