BEGIN:VCALENDAR
VERSION:2.0
PRODID:-//eventon.com NONSGML v1.0//EN
CALSCALE:GREGORIAN
METHOD:PUBLISH
BEGIN:VEVENT
UID:69e666b861872
DTSTAMP:20260420T174736Z
DTSTART:20260423T053000Z
DTEND:20260423T070000Z
LOCATION:
SUMMARY:Miércoles en el REFUGIO: Spotiband
DESCRIPTION:Spotiband Día: 22 de abril\,  miércoles Hora: 20.30h Lugar: E
 l refugio arte y utopías (Alicante) Entradas responsable\nhttps://quefas.e
 s/events/miercoles-en-el-refugio/
URL:https://quefas.es/events/miercoles-en-el-refugio/
END:VEVENT
END:VCALENDAR