BEGIN:VCALENDAR
VERSION:2.0
PRODID:-//eventon.com NONSGML v1.0//EN
CALSCALE:GREGORIAN
METHOD:PUBLISH
BEGIN:VEVENT
UID:69ea880e2b10e
DTSTAMP:20260423T205854Z
DTSTART:20240608T190000Z
DTEND:20240608T203000Z
LOCATION:
SUMMARY:Rutas Binarias: NELO CURTI
DESCRIPTION:Este sábado\,  08 de junio\,  a las 19.00h en Libros de Ultram
 ar (Alicante)\,  nueva sesión de Rutas Binarias con Nelo Curti\,  que habl
 ará de su último premio David González\,  de su manera de entender la cr
 eación poética. Así que si quieres conocer desde la cercanía a este cre
 ador incansable\,  músico[..]\nhttps://quefas.es/events/rutas-binarias-nel
 o-curti/
URL:https://quefas.es/events/rutas-binarias-nelo-curti/
END:VEVENT
END:VCALENDAR