BEGIN:VCALENDAR
VERSION:2.0
PRODID:-//eventon.com NONSGML v1.0//EN
CALSCALE:GREGORIAN
METHOD:PUBLISH
BEGIN:VEVENT
UID:69e816e3cfa67
DTSTAMP:20260422T003131Z
DTSTART:20240605T190000Z
DTEND:20240605T213000Z
LOCATION:
SUMMARY:Homenaje a Estellés
DESCRIPTION:Del 03 al 09 de junio\,  Alcoi rinde homenaje a Vicent Andrés 
 Estellés… L´ESTELLÉS I MÉS Día: 03 de junio\,  lunes Hora: 18.00h Lu
 gar: Auditori Fudación Mutua Levante MÚSICA con Dani Miquel Entrada libre
  hasta completar aforo UNA TENDRESA OCULTA Día: 04 de junio\,  martes Hora
 : 19.00h Lugar: Auditori Fudación[..]\nhttps://quefas.es/events/homenaje-a
 -estelles/
URL:https://quefas.es/events/homenaje-a-estelles/
END:VEVENT
END:VCALENDAR