BEGIN:VCALENDAR
VERSION:2.0
PRODID:-//eventon.com NONSGML v1.0//EN
CALSCALE:GREGORIAN
METHOD:PUBLISH
BEGIN:VEVENT
UID:69e81719b8e71
DTSTAMP:20260422T003225Z
DTSTART:20250211T050000Z
DTEND:20250211T065000Z
LOCATION:
SUMMARY:Literatura y Mediterráneo
DESCRIPTION:Encuentro con Jesús Cintora Día: 10 de febrero\,  lunes Hora:
  19.00h Lugar: Casa Mediterráneo Entrada Libre hasta completar aforo.\nhtt
 ps://quefas.es/events/casa-mediterraneo-miercoles/
URL:https://quefas.es/events/casa-mediterraneo-miercoles/
END:VEVENT
END:VCALENDAR