BEGIN:VCALENDAR
VERSION:2.0
PRODID:-//eventon.com NONSGML v1.0//EN
CALSCALE:GREGORIAN
METHOD:PUBLISH
BEGIN:VEVENT
UID:69e666a357400
DTSTAMP:20260420T174715Z
DTSTART:20240614T200000Z
DTEND:20240614T210000Z
LOCATION:
SUMMARY:Mis primeras pinceladas hasta hoy
DESCRIPTION:Este viernes a las 20:00 Lola López Carrasquilla inaugurará s
 u exposición en la sede de la Asociación de Bellas artes de Elche\,  en l
 a que podremos ver un recorrido por sus obras\,  desde sus inicios hasta la
  actualidad\nhttps://quefas.es/events/mis-primeras-pinceladas-hasta-hoy/
URL:https://quefas.es/events/mis-primeras-pinceladas-hasta-hoy/
END:VEVENT
END:VCALENDAR