BEGIN:VCALENDAR
VERSION:2.0
PRODID:-//eventon.com NONSGML v1.0//EN
CALSCALE:GREGORIAN
METHOD:PUBLISH
BEGIN:VEVENT
UID:69eac52c93be7
DTSTAMP:20260424T011940Z
DTSTART:20260413T010000Z
DTEND:20260413T025000Z
LOCATION:
SUMMARY:Concierto en Mentxaca
DESCRIPTION:Todos los domingos\,  después de comer\,  concierto en Mentxac
 a (El Campello) Día: 12 de abril\,  domingo Hora: 16.00h Lugar: Mentxaca (
 El Campello)\nhttps://quefas.es/events/concierto-en-mentxaca/
URL:https://quefas.es/events/concierto-en-mentxaca/
END:VEVENT
END:VCALENDAR