BEGIN:VCALENDAR
VERSION:2.0
PRODID:-//eventon.com NONSGML v1.0//EN
CALSCALE:GREGORIAN
METHOD:PUBLISH
BEGIN:VEVENT
UID:69e6669457709
DTSTAMP:20260420T174700Z
DTSTART:20250618T200000Z
DTEND:20250618T213000Z
LOCATION:
SUMMARY:LA INUTILITAT DEL QUE ÉS ÚTIL
DESCRIPTION:Dimecres\,  18 de juny\,  a les 20 hEspai Trama&nbsp;IVAM CADA 
 ALCOIPresentació de l'Espai Trama de&nbsp;Myriam Faus"LA INUTILITAT DEL QU
 E ÉS ÚTIL. Llums i ombres en façanes industrials"Sèrie 16 fotografies s
 / paper.(Obra realitzada especialment per a aquest espai)\nhttps://quefas.e
 s/events/linia-de-temps-x/
URL:https://quefas.es/events/linia-de-temps-x/
END:VEVENT
END:VCALENDAR