BEGIN:VCALENDAR
VERSION:2.0
PRODID:-//eventon.com NONSGML v1.0//EN
CALSCALE:GREGORIAN
METHOD:PUBLISH
BEGIN:VEVENT
UID:69e9d816c8694
DTSTAMP:20260423T082806Z
DTSTART:20260821T200000Z
DTEND:20260821T235000Z
LOCATION:
SUMMARY:I Love Reggeaton
DESCRIPTION:I love Reggeatón Días: 21 de agosto\,  viernes Hora: 22.00h L
 ugar: Área 12 (Alicante) Entradas desde 33\, 59 y 79€ COMPRAR Event Deta
 ils ¡Disfruta de la música que marcó toda una generación! Juan Magan\, 
  Cali & El Dandee\,  Henry Mendez \, Jose de Rico\,  Mohombi\,  King Áfric
 a\,  Jumper Brothers ¡y muchísimos más![..]\nhttps://quefas.es/events/i-
 love-reggeaton-alicante/
URL:https://quefas.es/events/i-love-reggeaton-alicante/
END:VEVENT
END:VCALENDAR