BEGIN:VCALENDAR
VERSION:2.0
PRODID:-//eventon.com NONSGML v1.0//EN
CALSCALE:GREGORIAN
METHOD:PUBLISH
BEGIN:VEVENT
UID:69e696cad6918
DTSTAMP:20260420T211242Z
DTSTART:20240907T220000Z
DTEND:20240907T235500Z
LOCATION:
SUMMARY:BECARIOS + LA 126
DESCRIPTION:Día: 07 de septiembre\,  sábado Hora: 22.00h Lugar: Sala Ster
 eo (Alicante) Entradas: 7€  AQUÍ Con una energía implacable y un despa
 rpajo a la altura de los inolvidables arrancó&nbsp;La 126&nbsp;en 2022.Tre
 s amigas de Elche (Lucía\, Laura y Elia) que con el EP titulado Todo Vení
 a de Antes dieron un respiro al rock[..]\nhttps://quefas.es/events/becarios
 -la-126/
URL:https://quefas.es/events/becarios-la-126/
END:VEVENT
END:VCALENDAR