BEGIN:VCALENDAR
VERSION:2.0
PRODID:-//eventon.com NONSGML v1.0//EN
CALSCALE:GREGORIAN
METHOD:PUBLISH
BEGIN:VEVENT
UID:69e816e707d9b
DTSTAMP:20260422T003135Z
DTSTART:20241109T120000Z
DTEND:20241109T150000Z
LOCATION:
SUMMARY:Pipiolas + Elsa Grande
DESCRIPTION:Pipiolas + Elsa Grande La propuesta de&nbsp;Pipiolas&nbsp; es e
 special; un pop lleno de aristas y fantasía en el que es imposible aburrir
 se\,  en el que hay grandes melodías\,  arreglos y una imaginación desbor
 dante. Estamos delante de unas artistas con una trayectoria enorme frente a
  ellas\,  conlenguaje musical propio\,  maduro\,  fresco[..]\nhttps://quefa
 s.es/events/pipiolas-elsa-grande/
URL:https://quefas.es/events/pipiolas-elsa-grande/
END:VEVENT
END:VCALENDAR