BEGIN:VCALENDAR
VERSION:2.0
PRODID:-//eventon.com NONSGML v1.0//EN
CALSCALE:GREGORIAN
METHOD:PUBLISH
BEGIN:VEVENT
UID:69ea412fa8033
DTSTAMP:20260423T155631Z
DTSTART:20260425T220000Z
DTEND:20260425T233000Z
LOCATION:
SUMMARY:Nat Simons
DESCRIPTION:Nat Simons Día: 25 de abril\,  sábado Hora: 22.00h Lugar: Sal
 a Euterpe&nbsp;\, &nbsp;Sant Joan d'Alacant ROCK Precio: 14-16€ Comprar e
 ntradas Nat Simons&nbsp;se ha consolidado como&nbsp;la artista española de
  rock más internacional\,  con una trayectoria que combina autenticidad y 
 ambición. Tras el éxito de su último trabajo de estudio hasta la fecha[.
 .]\nhttps://quefas.es/events/euterpe-sj-concierto-sabado/
URL:https://quefas.es/events/euterpe-sj-concierto-sabado/
END:VEVENT
END:VCALENDAR