BEGIN:VCALENDAR
VERSION:2.0
PRODID:-//eventon.com NONSGML v1.0//EN
CALSCALE:GREGORIAN
METHOD:PUBLISH
BEGIN:VEVENT
UID:69e816fbb0c07
DTSTAMP:20260422T003155Z
DTSTART:20260314T200000Z
DTEND:20260314T213000Z
LOCATION:
SUMMARY:Stravinsky\,  por LaMov
DESCRIPTION:Stravinsky\,  por LaMov Día: 14 de marzo\,  sábado Hora: 20:0
 0h. Lugar: Aula de Cultura de Alicante MEDITERRÁNEO EN DANZA Entradas: 20
  Entradas Un espectáculo de danza compuesto de dos piezas: El Pájaro de
  Fuego y La Consagración de la Primavera. El Pájaro de Fuego de Víctor J
 iménez. Con esta nueva[..]\nhttps://quefas.es/events/flamenco-aula-cultura
 -alicante-fm/
URL:https://quefas.es/events/flamenco-aula-cultura-alicante-fm/
END:VEVENT
END:VCALENDAR