BEGIN:VCALENDAR
VERSION:2.0
PRODID:-//eventon.com NONSGML v1.0//EN
CALSCALE:GREGORIAN
METHOD:PUBLISH
BEGIN:VEVENT
UID:69e99ac5422e6
DTSTAMP:20260423T040629Z
DTSTART:20260321T040000Z
DTEND:20260321T053000Z
LOCATION:
SUMMARY:Meduelo
DESCRIPTION:Teatro – Meduelo Teatro CervantesViernes 20 de marzo – 19 h
  Espectáculo teatral «Meduelo»\,  de la compañía Clowndestino Teatro. 
 Organiza: Igualdad y Servicios SocialesEntrada libre\nhttps://quefas.es/eve
 nts/teatro-cervantes-petrer-nenicxs/
URL:https://quefas.es/events/teatro-cervantes-petrer-nenicxs/
END:VEVENT
END:VCALENDAR