BEGIN:VCALENDAR
VERSION:2.0
PRODID:-//eventon.com NONSGML v1.0//EN
CALSCALE:GREGORIAN
METHOD:PUBLISH
BEGIN:VEVENT
UID:69e6b319af82a
DTSTAMP:20260420T231329Z
DTSTART:20250717T170000Z
DTEND:20250717T190000Z
LOCATION:
SUMMARY:Art is life
DESCRIPTION:Este jueves\,  17 de julio\,  a las 17h inauguramos nueva expos
 ición de pintura en la Casa de la cultura de Dénia\nhttps://quefas.es/eve
 nts/nueva-exposicion-denia/
URL:https://quefas.es/events/nueva-exposicion-denia/
END:VEVENT
END:VCALENDAR