BEGIN:VCALENDAR
VERSION:2.0
PRODID:-//eventon.com NONSGML v1.0//EN
CALSCALE:GREGORIAN
METHOD:PUBLISH
BEGIN:VEVENT
UID:69e5f0b673de8
DTSTAMP:20260420T092406Z
DTSTART:20241026T200000Z
DTEND:20241026T215000Z
LOCATION:
SUMMARY:Mikel Erentxun
DESCRIPTION:Fecha 26 Oct 2024 MIKEL ERENTXUN Este otoño arrancará el TOUR
  SEPTIEMBRE\,  la nueva gira de Mikel Erentxun\,  en la que podremos disfru
 tar de su nuevo trabajo. Las primeras canciones\,  “A la luz de las farol
 as” y “Tren a marte” es un pequeño avance del sonido del álbum SEPT
 IEMBRE y[..]\nhttps://quefas.es/events/mikel-erentxun-2/
URL:https://quefas.es/events/mikel-erentxun-2/
END:VEVENT
END:VCALENDAR