BEGIN:VCALENDAR
VERSION:2.0
PRODID:-//eventon.com NONSGML v1.0//EN
CALSCALE:GREGORIAN
METHOD:PUBLISH
BEGIN:VEVENT
UID:69e8170fb40a8
DTSTAMP:20260422T003215Z
DTSTART:20251112T200000Z
DTEND:20251112T210000Z
LOCATION:
SUMMARY:X ULTRAMAR DANSA
DESCRIPTION:Del 12 al 16 de noviembre\,  la ciudad de DÃ©nia se convierte u
 na vez mÃ¡s en epicentro de la danza contemporÃ¡nea con la celebraciÃ³n de 
 la XI ediciÃ³n del Festival Ultramar Dansa\,  un encuentro que invita al pÃ
 ºblico a explorar la creaciÃ³n actual a travÃ©s de la diversidad de estilos
 \, [..]\nhttps://quefas.es/events/x-ultramar-dansa/
URL:https://quefas.es/events/x-ultramar-dansa/
END:VEVENT
END:VCALENDAR