BEGIN:VCALENDAR
VERSION:2.0
PRODID:-//eventon.com NONSGML v1.0//EN
CALSCALE:GREGORIAN
METHOD:PUBLISH
BEGIN:VEVENT
UID:69ea88092640c
DTSTAMP:20260423T205849Z
DTSTART:20241114T190000Z
DTEND:20241114T203000Z
LOCATION:
SUMMARY:MODELOS RELACIONALES - más allá de la monogamia
DESCRIPTION:JUEVES 14 A LAS 19:00 El colectivo de no monogamias éticas Yon
 opodría convoca en vuestra librería el encuentro de NOVIEMBRE.LA INSCRIPC
 IÓN ES OBLIGATRIA: https://forms.gle/BB4QbzXNpcTrwmfA8 Este jueves hablare
 mos sobre los diferentes modelos relacionales que existen en las no monogam
 ias y cómo podemos describirlos e identificarnos. Para ello volveremos a t
 ener una[..]\nhttps://quefas.es/events/modelos-relacionales-mas-alla-de-la-
 monogamia/
URL:https://quefas.es/events/modelos-relacionales-mas-alla-de-la-monogamia/
END:VEVENT
END:VCALENDAR