BEGIN:VCALENDAR
VERSION:2.0
PRODID:-//eventon.com NONSGML v1.0//EN
CALSCALE:GREGORIAN
METHOD:PUBLISH
BEGIN:VEVENT
UID:69e71b13bb217
DTSTAMP:20260421T063707Z
DTSTART:20241117T180000Z
DTEND:20241117T194000Z
LOCATION:
SUMMARY:Mi vida gira alrededor de 500metros
DESCRIPTION:El domingo 17 de Noviembre a las 18 horas en el Centro de la Te
 rcera Edad\,  vuelve a representarse la obra 'Mi vida gira alrededor de 500
  metros'. Es un drama poético que introduce a las personas en el ambiente 
 de una familia que convive a diario con la violencia[..]\nhttps://quefas.es
 /events/mi-vida-gira-alrededor-de-500metros/
URL:https://quefas.es/events/mi-vida-gira-alrededor-de-500metros/
END:VEVENT
END:VCALENDAR