BEGIN:VCALENDAR
VERSION:2.0
PRODID:-//eventon.com NONSGML v1.0//EN
CALSCALE:GREGORIAN
METHOD:PUBLISH
BEGIN:VEVENT
UID:69e807d271ec1
DTSTAMP:20260421T232714Z
DTSTART:20260212T050000Z
DTEND:20260212T065000Z
LOCATION:
SUMMARY:Eme Eme Project
DESCRIPTION:Concierto de Eme Eme Project Miércoles\,  11 de febrero&nbsp;-
 &nbsp;19:00&nbsp;&nbsp;Paraninfo de la UA&nbsp; -&nbsp;&nbsp;7 euros Eme Em
 e Project&nbsp;es la nueva banda de Marta Mansilla\,  flautista y composito
 ra. Después de un largo recorrido acompañando a grandes artistas como Roz
 alén\,  el Kanka o María Peláe\,  ha decidido embarcarse en un proyecto 
 donde aúna[..]\nhttps://quefas.es/events/concierto-paraninfo-ua/
URL:https://quefas.es/events/concierto-paraninfo-ua/
END:VEVENT
END:VCALENDAR