BEGIN:VCALENDAR
VERSION:2.0
PRODID:-//eventon.com NONSGML v1.0//EN
CALSCALE:GREGORIAN
METHOD:PUBLISH
BEGIN:VEVENT
UID:69e9c706252ca
DTSTAMP:20260423T071518Z
DTSTART:20260222T170000Z
DTEND:20260222T185000Z
LOCATION:
SUMMARY:Autoramas
DESCRIPTION:El grupo brasileño Autoramas\,  una de las bandas más destaca
 das de la escena independiente de su país\,  llega a Alcoy para ofrecer un
  directo explosivo en la Associació Cultural La Granja\,  con su inconfund
 ible mezcla de rock’n’roll bailable\,  surf\,  new wave\,  garage y pow
 er pop\,  tras una trayectoria internacional con[..]\nhttps://quefas.es/eve
 nts/la-granja-alcoi-concierto/
URL:https://quefas.es/events/la-granja-alcoi-concierto/
END:VEVENT
END:VCALENDAR